BEGIN:VCALENDAR
VERSION:2.0
PRODID:-//Olof - ECPv6.15.20//NONSGML v1.0//EN
CALSCALE:GREGORIAN
METHOD:PUBLISH
X-ORIGINAL-URL:https://olof.nl
X-WR-CALDESC:Evenementen voor Olof
REFRESH-INTERVAL;VALUE=DURATION:PT1H
X-Robots-Tag:noindex
X-PUBLISHED-TTL:PT1H
BEGIN:VTIMEZONE
TZID:UTC
BEGIN:STANDARD
TZOFFSETFROM:+0000
TZOFFSETTO:+0000
TZNAME:UTC
DTSTART:20190101T000000
END:STANDARD
END:VTIMEZONE
BEGIN:VEVENT
DTSTART;TZID=UTC:20200501T080000
DTEND;TZID=UTC:20200531T170000
DTSTAMP:20260425T101835
CREATED:20200330T124119Z
LAST-MODIFIED:20200330T124119Z
UID:2754-1588320000-1590944400@olof.nl
SUMMARY:Sociëteit gesloten
DESCRIPTION:
URL:https://olof.nl/event/societeit-gesloten-2/
END:VEVENT
END:VCALENDAR