BEGIN:VCALENDAR
VERSION:2.0
PRODID:-//Olof - ECPv6.15.20//NONSGML v1.0//EN
CALSCALE:GREGORIAN
METHOD:PUBLISH
X-WR-CALNAME:Olof
X-ORIGINAL-URL:https://olof.nl
X-WR-CALDESC:Evenementen voor Olof
REFRESH-INTERVAL;VALUE=DURATION:PT1H
X-Robots-Tag:noindex
X-PUBLISHED-TTL:PT1H
BEGIN:VTIMEZONE
TZID:UTC
BEGIN:STANDARD
TZOFFSETFROM:+0000
TZOFFSETTO:+0000
TZNAME:UTC
DTSTART:20190101T000000
END:STANDARD
END:VTIMEZONE
BEGIN:VEVENT
DTSTART;TZID=UTC:20200807T120000
DTEND;TZID=UTC:20200809T233000
DTSTAMP:20260425T041549
CREATED:20200330T121655Z
LAST-MODIFIED:20200330T122344Z
UID:2720-1596801600-1597015800@olof.nl
SUMMARY:Olof Weekend
DESCRIPTION:
URL:https://olof.nl/event/olof-weekend/
END:VEVENT
END:VCALENDAR