BEGIN:VCALENDAR
VERSION:2.0
PRODID:-//Olof - ECPv6.15.20//NONSGML v1.0//EN
CALSCALE:GREGORIAN
METHOD:PUBLISH
X-ORIGINAL-URL:https://olof.nl
X-WR-CALDESC:Evenementen voor Olof
REFRESH-INTERVAL;VALUE=DURATION:PT1H
X-Robots-Tag:noindex
X-PUBLISHED-TTL:PT1H
BEGIN:VTIMEZONE
TZID:UTC
BEGIN:STANDARD
TZOFFSETFROM:+0000
TZOFFSETTO:+0000
TZNAME:UTC
DTSTART:20190101T000000
END:STANDARD
END:VTIMEZONE
BEGIN:VEVENT
DTSTART;VALUE=DATE:20200812
DTEND;VALUE=DATE:20200813
DTSTAMP:20260425T041707
CREATED:20200627T095825Z
LAST-MODIFIED:20200723T125154Z
UID:3273-1597190400-1597276799@olof.nl
SUMMARY:Dies Almanak uitreiking
DESCRIPTION:
URL:https://olof.nl/event/dies-almanak-uitreiking/
END:VEVENT
BEGIN:VEVENT
DTSTART;TZID=UTC:20200812T210000
DTEND;TZID=UTC:20200812T230000
DTSTAMP:20260425T041707
CREATED:20200708T155953Z
LAST-MODIFIED:20200708T155953Z
UID:3298-1597266000-1597273200@olof.nl
SUMMARY:Kwartfinale CL en Stock Exchange
DESCRIPTION:Kom jij voetbal kijken terwijl je met een schuin oog de koers van jouw favoriete kroegmix in de gaten houdt?
URL:https://olof.nl/event/kwartfinale-cl-en-stock-exchange/
END:VEVENT
END:VCALENDAR