BEGIN:VCALENDAR
VERSION:2.0
PRODID:-//Olof - ECPv6.15.20//NONSGML v1.0//EN
CALSCALE:GREGORIAN
METHOD:PUBLISH
X-ORIGINAL-URL:https://olof.nl
X-WR-CALDESC:Evenementen voor Olof
REFRESH-INTERVAL;VALUE=DURATION:PT1H
X-Robots-Tag:noindex
X-PUBLISHED-TTL:PT1H
BEGIN:VTIMEZONE
TZID:UTC
BEGIN:STANDARD
TZOFFSETFROM:+0000
TZOFFSETTO:+0000
TZNAME:UTC
DTSTART:20190101T000000
END:STANDARD
END:VTIMEZONE
BEGIN:VEVENT
DTSTART;VALUE=DATE:20200814
DTEND;VALUE=DATE:20200817
DTSTAMP:20260425T041707
CREATED:20200627T095732Z
LAST-MODIFIED:20200627T095732Z
UID:3269-1597363200-1597622399@olof.nl
SUMMARY:Olof Weekend 2
DESCRIPTION:
URL:https://olof.nl/event/olof-weekend-2/
END:VEVENT
BEGIN:VEVENT
DTSTART;VALUE=DATE:20200816
DTEND;VALUE=DATE:20200817
DTSTAMP:20260425T041707
CREATED:20200627T095757Z
LAST-MODIFIED:20200627T095757Z
UID:3271-1597536000-1597622399@olof.nl
SUMMARY:Afterparty Olof Weekend op de dispuutshuizen
DESCRIPTION:
URL:https://olof.nl/event/afterparty-olof-weekend-op-de-dispuutshuizen/
END:VEVENT
END:VCALENDAR