BEGIN:VCALENDAR
VERSION:2.0
PRODID:-//Olof - ECPv6.15.20//NONSGML v1.0//EN
CALSCALE:GREGORIAN
METHOD:PUBLISH
X-WR-CALNAME:Olof
X-ORIGINAL-URL:https://olof.nl
X-WR-CALDESC:Evenementen voor Olof
REFRESH-INTERVAL;VALUE=DURATION:PT1H
X-Robots-Tag:noindex
X-PUBLISHED-TTL:PT1H
BEGIN:VTIMEZONE
TZID:UTC
BEGIN:STANDARD
TZOFFSETFROM:+0000
TZOFFSETTO:+0000
TZNAME:UTC
DTSTART:20190101T000000
END:STANDARD
END:VTIMEZONE
BEGIN:VEVENT
DTSTART;TZID=UTC:20200902T100000
DTEND;TZID=UTC:20200902T180000
DTSTAMP:20260425T023857
CREATED:20200903T072101Z
LAST-MODIFIED:20200903T072101Z
UID:3352-1599040800-1599069600@olof.nl
SUMMARY:Ophaaldagen Inauguratie Periode
DESCRIPTION:
URL:https://olof.nl/event/ophaaldagen-inauguratie-periode-2/
LOCATION:Sociëteit Asgard\, Spoorlaan\, Tilburg\, Noord-Brabant\, 5038CC\, Nederland
END:VEVENT
END:VCALENDAR