BEGIN:VCALENDAR
VERSION:2.0
PRODID:-//Olof - ECPv6.15.20//NONSGML v1.0//EN
CALSCALE:GREGORIAN
METHOD:PUBLISH
X-WR-CALNAME:Olof
X-ORIGINAL-URL:https://olof.nl
X-WR-CALDESC:Evenementen voor Olof
REFRESH-INTERVAL;VALUE=DURATION:PT1H
X-Robots-Tag:noindex
X-PUBLISHED-TTL:PT1H
BEGIN:VTIMEZONE
TZID:UTC
BEGIN:STANDARD
TZOFFSETFROM:+0000
TZOFFSETTO:+0000
TZNAME:UTC
DTSTART:20190101T000000
END:STANDARD
END:VTIMEZONE
BEGIN:VEVENT
DTSTART;TZID=UTC:20200913T153000
DTEND;TZID=UTC:20200913T160000
DTSTAMP:20260425T023843
CREATED:20200903T074241Z
LAST-MODIFIED:20200903T074809Z
UID:3369-1600011000-1600012800@olof.nl
SUMMARY:Inauguratie Mis Shift 1
DESCRIPTION:De traditionele mis ter gelegenheid van de inauguratie van het jaar 2020 bij het T.S.C. St. Olof. De Praeses Senatus en Moderator Michiel Peeters verwelkomen de nieuwe leden bij de vereniging onder begeleiding van muziek van The Mexican Dog. \nDe mis vindt plaats in twee shifts om de 1.5 meter afstand te kunnen waarborgen.
URL:https://olof.nl/event/inauguratie-mis-shift-1/
LOCATION:De Heikese Kerk\, Stadhuisstraat 6\, Tilburg\, Noord-Brabant\, 5038VA\, Nederland
END:VEVENT
BEGIN:VEVENT
DTSTART;TZID=UTC:20200913T163000
DTEND;TZID=UTC:20200913T170000
DTSTAMP:20260425T023843
CREATED:20200903T074611Z
LAST-MODIFIED:20200903T074835Z
UID:3371-1600014600-1600016400@olof.nl
SUMMARY:Inauguratie Mis Shift 2
DESCRIPTION:De traditionele mis ter gelegenheid van de inauguratie van het jaar 2020 bij het T.S.C. St. Olof. De Praeses Senatus en Moderator Michiel Peeters verwelkomen de nieuwe leden bij de vereniging onder begeleiding van muziek van The Mexican Dog. \nDe mis vindt plaats in twee shifts om de 1.5 meter afstand te kunnen waarborgen.
URL:https://olof.nl/event/inauguratie-mis-shift-2/
LOCATION:De Heikese Kerk\, Stadhuisstraat 6\, Tilburg\, Noord-Brabant\, 5038VA\, Nederland
END:VEVENT
BEGIN:VEVENT
DTSTART;TZID=UTC:20200913T180000
DTEND;TZID=UTC:20200913T210000
DTSTAMP:20260425T023843
CREATED:20200903T075447Z
LAST-MODIFIED:20200903T075447Z
UID:3377-1600020000-1600030800@olof.nl
SUMMARY:Inauguratie Barbecue Shift 1
DESCRIPTION:Een feestelijke barbecue waar de kersverse leden elkaar kunnen leren kennen. Op externe locatie en in twee shifts zodat ook hier de 1.5 meter afstand gewaarborgd kan worden. \n 
URL:https://olof.nl/event/inauguratie-barbecue-shift-1/
LOCATION:De Commanderie\, Rielseweg 861\, Tilburg\, Noord-Brabant\, 5032SB\, Nederland
END:VEVENT
END:VCALENDAR