BEGIN:VCALENDAR
VERSION:2.0
PRODID:-//Olof - ECPv6.15.20//NONSGML v1.0//EN
CALSCALE:GREGORIAN
METHOD:PUBLISH
X-WR-CALNAME:Olof
X-ORIGINAL-URL:https://olof.nl
X-WR-CALDESC:Evenementen voor Olof
REFRESH-INTERVAL;VALUE=DURATION:PT1H
X-Robots-Tag:noindex
X-PUBLISHED-TTL:PT1H
BEGIN:VTIMEZONE
TZID:UTC
BEGIN:STANDARD
TZOFFSETFROM:+0000
TZOFFSETTO:+0000
TZNAME:UTC
DTSTART:20190101T000000
END:STANDARD
END:VTIMEZONE
BEGIN:VEVENT
DTSTART;TZID=UTC:20200914T170000
DTEND;TZID=UTC:20200914T233000
DTSTAMP:20260425T023843
CREATED:20200903T080047Z
LAST-MODIFIED:20200903T080047Z
UID:3383-1600102800-1600126200@olof.nl
SUMMARY:Online Klepronde - Dag 1
DESCRIPTION:De nieuwe leden maken online kennis met de disputen en vriendenclubs die het T.S.C. St. Olof rijk is.
URL:https://olof.nl/event/online-klepronde-dag-1/
LOCATION:Online
END:VEVENT
END:VCALENDAR