BEGIN:VCALENDAR
VERSION:2.0
PRODID:-//Olof - ECPv6.15.20//NONSGML v1.0//EN
CALSCALE:GREGORIAN
METHOD:PUBLISH
X-WR-CALNAME:Olof
X-ORIGINAL-URL:https://olof.nl
X-WR-CALDESC:Evenementen voor Olof
REFRESH-INTERVAL;VALUE=DURATION:PT1H
X-Robots-Tag:noindex
X-PUBLISHED-TTL:PT1H
BEGIN:VTIMEZONE
TZID:UTC
BEGIN:STANDARD
TZOFFSETFROM:+0000
TZOFFSETTO:+0000
TZNAME:UTC
DTSTART:20190101T000000
END:STANDARD
END:VTIMEZONE
BEGIN:VEVENT
DTSTART;TZID=UTC:20200915T180000
DTEND;TZID=UTC:20200915T210000
DTSTAMP:20260425T023843
CREATED:20200903T075646Z
LAST-MODIFIED:20200910T100930Z
UID:3379-1600192800-1600203600@olof.nl
SUMMARY:Inauguratie Barbecue Shift 2
DESCRIPTION:Een feestelijke barbecue waar de kersverse leden elkaar kunnen leren kennen. Op externe locatie en in twee shifts zodat ook hier de 1.5 meter afstand gewaarborgd kan worden.
URL:https://olof.nl/event/inauguratie-barbecue-shift-2/
LOCATION:De Commanderie\, Rielseweg 861\, Tilburg\, Noord-Brabant\, 5032SB\, Nederland
END:VEVENT
END:VCALENDAR