BEGIN:VCALENDAR
VERSION:2.0
PRODID:-//Olof - ECPv6.15.20//NONSGML v1.0//EN
CALSCALE:GREGORIAN
METHOD:PUBLISH
X-WR-CALNAME:Olof
X-ORIGINAL-URL:https://olof.nl
X-WR-CALDESC:Evenementen voor Olof
REFRESH-INTERVAL;VALUE=DURATION:PT1H
X-Robots-Tag:noindex
X-PUBLISHED-TTL:PT1H
BEGIN:VTIMEZONE
TZID:UTC
BEGIN:STANDARD
TZOFFSETFROM:+0000
TZOFFSETTO:+0000
TZNAME:UTC
DTSTART:20190101T000000
END:STANDARD
END:VTIMEZONE
BEGIN:VEVENT
DTSTART;TZID=UTC:20200916T170000
DTEND;TZID=UTC:20200916T233000
DTSTAMP:20260425T023844
CREATED:20200903T080346Z
LAST-MODIFIED:20200903T080500Z
UID:3385-1600275600-1600299000@olof.nl
SUMMARY:Online Klepronde - Dag 2
DESCRIPTION:De nieuwe leden maken online kennis met de disputen en vriendenclubs die het T.S.C. St. Olof rijk is.
URL:https://olof.nl/event/online-klepronde-dag-2/
LOCATION:Online
END:VEVENT
END:VCALENDAR