BEGIN:VCALENDAR
VERSION:2.0
PRODID:-//Olof - ECPv6.15.20//NONSGML v1.0//EN
CALSCALE:GREGORIAN
METHOD:PUBLISH
X-ORIGINAL-URL:https://olof.nl
X-WR-CALDESC:Evenementen voor Olof
REFRESH-INTERVAL;VALUE=DURATION:PT1H
X-Robots-Tag:noindex
X-PUBLISHED-TTL:PT1H
BEGIN:VTIMEZONE
TZID:UTC
BEGIN:STANDARD
TZOFFSETFROM:+0000
TZOFFSETTO:+0000
TZNAME:UTC
DTSTART:20190101T000000
END:STANDARD
END:VTIMEZONE
BEGIN:VEVENT
DTSTART;TZID=UTC:20200921T210000
DTEND;TZID=UTC:20200921T233000
DTSTAMP:20260425T024009
CREATED:20200903T081553Z
LAST-MODIFIED:20200903T081553Z
UID:3390-1600722000-1600731000@olof.nl
SUMMARY:Senaatswissel
DESCRIPTION:De Ebbenbruin Ivoor Gekruiste Senaat van het verenigingsjaar 2019-2020 zwaait af na een rumoerig jaar. De senaat van het verenigingsjaar 2020-2021 wordt geïnstalleerd. \nDe Senaatswissel vindt plaats op een externe locatie en is gezien het beperkte aantal plekken op uitnodiging.
URL:https://olof.nl/event/senaatswissel/
LOCATION:De Commanderie\, Rielseweg 861\, Tilburg\, Noord-Brabant\, 5032SB\, Nederland
END:VEVENT
END:VCALENDAR