BEGIN:VCALENDAR
VERSION:2.0
PRODID:-//Olof - ECPv6.15.20//NONSGML v1.0//EN
CALSCALE:GREGORIAN
METHOD:PUBLISH
X-ORIGINAL-URL:https://olof.nl
X-WR-CALDESC:Evenementen voor Olof
REFRESH-INTERVAL;VALUE=DURATION:PT1H
X-Robots-Tag:noindex
X-PUBLISHED-TTL:PT1H
BEGIN:VTIMEZONE
TZID:UTC
BEGIN:STANDARD
TZOFFSETFROM:+0000
TZOFFSETTO:+0000
TZNAME:UTC
DTSTART:20190101T000000
END:STANDARD
END:VTIMEZONE
BEGIN:VEVENT
DTSTART;TZID=UTC:20200923T193000
DTEND;TZID=UTC:20200923T213000
DTSTAMP:20260425T023936
CREATED:20200903T082718Z
LAST-MODIFIED:20200903T082718Z
UID:3396-1600889400-1600896600@olof.nl
SUMMARY:Fysieke Klepronde - Dag 2
DESCRIPTION:De eerstejaars worden ingedeeld bij de disputen en vriendenclubs naar voorkeur en krijgen de mogelijkheid om hen beter te leren kennen.
URL:https://olof.nl/event/fysieke-klepronde-dag-2/
LOCATION:Dispuutshuizen
END:VEVENT
END:VCALENDAR