BEGIN:VCALENDAR
VERSION:2.0
PRODID:-//Olof - ECPv6.15.20//NONSGML v1.0//EN
CALSCALE:GREGORIAN
METHOD:PUBLISH
X-ORIGINAL-URL:https://olof.nl
X-WR-CALDESC:Evenementen voor Olof
REFRESH-INTERVAL;VALUE=DURATION:PT1H
X-Robots-Tag:noindex
X-PUBLISHED-TTL:PT1H
BEGIN:VTIMEZONE
TZID:UTC
BEGIN:STANDARD
TZOFFSETFROM:+0000
TZOFFSETTO:+0000
TZNAME:UTC
DTSTART:20190101T000000
END:STANDARD
END:VTIMEZONE
BEGIN:VEVENT
DTSTART;TZID=UTC:20201008T180000
DTEND;TZID=UTC:20201008T220000
DTSTAMP:20260425T011412
CREATED:20200925T113944Z
LAST-MODIFIED:20201001T110351Z
UID:3417-1602180000-1602194400@olof.nl
SUMMARY:Olof Culinair
DESCRIPTION:Het Corps is jarig en dat vieren we met een gloednieuwe editie van Olof Culinair! Meld je aan met je dispuut\, jaarclub\, genootschap of commissie voor een avondje culinair genieten op het corps. Je zit met 4 man/vrouw aan een tafel zodat wij alle RIVM maatregelen kunnen handhaven\, let hier dus op in je aantal aanmeldingen. Als je je met 5 man aanmeldt zal er iemand aan een andere tafel moeten plaatsnemen. \nDe gastronomen zullen een verrassingsmenu voorbereiden. Wanneer je allergiën of andere dieetwensen hebt kunt u dit ook aangeven in de tekstballon hieronder. \n\n\n                \n                        \n                            Olof Culinair\n                             \n                        \n                        E-mailadres*\n                            \n                        Normale Mensen Menu: Spare-ribs (Heel)*Benoem de namen van de aanwezigen die een Normale Mensen menu (heel) willen. Voor- en achternaam. + eventuele dieetwensen.\n\nVB: Lid Lidmans - Gluten allergieNormale Mensen Menu: Spare-ribs (Half)*Benoem de namen van de aanwezigen die een Normale Mensen menu (half) willen. Voor- en achternaam. + eventuele dieetwensen.\n\nVB: Lid Lidmans - Gluten allergieWereldverbeteraars Menu: Halloumi burger*Benoem de namen van de aanwezigen die een Wereldverbeteraars menu willen. Voor- en achternaam. + eventuele dieetwensen.\n\nVB: Lid Lidmans - Gluten allergie
URL:https://olof.nl/event/olof-culinair-2/
LOCATION:Sociëteit Asgard\, Spoorlaan\, Tilburg\, Noord-Brabant\, 5038CC\, Nederland
END:VEVENT
END:VCALENDAR