BEGIN:VCALENDAR
VERSION:2.0
PRODID:-//Olof - ECPv6.15.20//NONSGML v1.0//EN
CALSCALE:GREGORIAN
METHOD:PUBLISH
X-ORIGINAL-URL:https://olof.nl
X-WR-CALDESC:Evenementen voor Olof
REFRESH-INTERVAL;VALUE=DURATION:PT1H
X-Robots-Tag:noindex
X-PUBLISHED-TTL:PT1H
BEGIN:VTIMEZONE
TZID:UTC
BEGIN:STANDARD
TZOFFSETFROM:+0000
TZOFFSETTO:+0000
TZNAME:UTC
DTSTART:20190101T000000
END:STANDARD
END:VTIMEZONE
BEGIN:VEVENT
DTSTART;TZID=UTC:20201015T183000
DTEND;TZID=UTC:20201015T220000
DTSTAMP:20260425T010227
CREATED:20200925T115356Z
LAST-MODIFIED:20201015T084137Z
UID:3424-1602786600-1602799200@olof.nl
SUMMARY:Jaarclub Avond (gecanceld)
DESCRIPTION:Ontmoet je jaargenoten onder begeleiding van de Besloten Activiteiten Commissie (BACo). Over meerdere weken verdeeld kunnen de eerstejaars elkaar ontmoeten in Bruincafé Asgard voorafgaande aan de vorming van hun jaarclub.
URL:https://olof.nl/event/jaarclub-avond/
LOCATION:Sociëteit Asgard\, Spoorlaan\, Tilburg\, Noord-Brabant\, 5038CC\, Nederland
END:VEVENT
END:VCALENDAR