BEGIN:VCALENDAR
VERSION:2.0
PRODID:-//Olof - ECPv6.15.20//NONSGML v1.0//EN
CALSCALE:GREGORIAN
METHOD:PUBLISH
X-ORIGINAL-URL:https://olof.nl
X-WR-CALDESC:Evenementen voor Olof
REFRESH-INTERVAL;VALUE=DURATION:PT1H
X-Robots-Tag:noindex
X-PUBLISHED-TTL:PT1H
BEGIN:VTIMEZONE
TZID:UTC
BEGIN:STANDARD
TZOFFSETFROM:+0000
TZOFFSETTO:+0000
TZNAME:UTC
DTSTART:20190101T000000
END:STANDARD
END:VTIMEZONE
BEGIN:VEVENT
DTSTART;TZID=UTC:20201016T150000
DTEND;TZID=UTC:20201016T220000
DTSTAMP:20260425T010227
CREATED:20201011T123710Z
LAST-MODIFIED:20201015T084212Z
UID:3493-1602860400-1602885600@olof.nl
SUMMARY:Olof VrijMiBo (gecanceld)
DESCRIPTION:Meld uzelf aan voor de enige echte Olof Vrijdag Middag Borrel. Aan tafels van vier kan men genieten van een biertje en het gezelschap van de leden. Ook zal men zich kunnen wagen aan gezelschapsspellen waarin het kaf van het corps’en wordt gescheiden. \nUiteraard zullen te allen tijde de richtlijnen van het RIVM worden gehandhaafd. U zult bij binnenkomst een gezondheidsverklaring invullen en uw contactgegevens achterlaten. Uw contactgegevens worden maximaal 2 weken bewaard. Daarnaast dient u anderhalve meter afstand te houden van alle aanwezigen. Laat een censor bier halen en loop niet zelf naar de bar. Wij gaan er van uit dat u allen op de hoogte bent van de richtlijnen die gelden ten tijde van uw bezoek. \nEr zullen twee shifts zijn waarvoor u zich kan aanmelden\, de eerste van 15:00 tot 18:00 en de tweede van 19:00 tot 22:00. Er kunnen maximaal 4 mensen aan een tafel. U heeft de optie om voor 2 of voor 4 mensen te reserveren. Als u voor 2 mensen reserveert wordt u ingedeeld met 2 andere die deze optie hebben aangegeven. \n\n\n                \n                        \n                            Olof VrijMiBo\n                             \n                        \n                        Aanmeldingen Olof VrijMiBo*Shift 1: 15:00 - 18:00 (2 personen)Shift 1: 15:00 - 18:00 (4 personen)Shift 2: 19:00 - 22:00 (2 personen)Shift 2: 19:00 - 22:00 (4 personen)Meld u aan met 2 personen (halve tafel) of met 4 personen (hele tafel).Geef hier de namen op van de leden die u inschrijft:*Voor- en Achternaam
URL:https://olof.nl/event/olof-vrijmibo/
LOCATION:Sociëteit Asgard\, Spoorlaan\, Tilburg\, Noord-Brabant\, 5038CC\, Nederland
END:VEVENT
END:VCALENDAR