BEGIN:VCALENDAR
VERSION:2.0
PRODID:-//Olof - ECPv6.15.20//NONSGML v1.0//EN
CALSCALE:GREGORIAN
METHOD:PUBLISH
X-ORIGINAL-URL:https://olof.nl
X-WR-CALDESC:Evenementen voor Olof
REFRESH-INTERVAL;VALUE=DURATION:PT1H
X-Robots-Tag:noindex
X-PUBLISHED-TTL:PT1H
BEGIN:VTIMEZONE
TZID:UTC
BEGIN:STANDARD
TZOFFSETFROM:+0000
TZOFFSETTO:+0000
TZNAME:UTC
DTSTART:20190101T000000
END:STANDARD
END:VTIMEZONE
BEGIN:VEVENT
DTSTART;VALUE=DATE:20201019
DTEND;VALUE=DATE:20201024
DTSTAMP:20260425T011427
CREATED:20201011T124606Z
LAST-MODIFIED:20201011T124606Z
UID:3496-1603065600-1603497599@olof.nl
SUMMARY:Midterms
DESCRIPTION:Het T.S.C. St. Olof wenst alle leden succes met zijn of haar tentamens. Voor kortingscodes van Athena Studies kunt u mailen naar vp@olof.nl.
URL:https://olof.nl/event/midterms/
LOCATION:Tilburg University\, Warandelaan 2\, Tilburg\, Noord-Brabant\, 5037AB\, Nederland
END:VEVENT
END:VCALENDAR