BEGIN:VCALENDAR
VERSION:2.0
PRODID:-//Olof - ECPv6.15.20//NONSGML v1.0//EN
CALSCALE:GREGORIAN
METHOD:PUBLISH
X-ORIGINAL-URL:https://olof.nl
X-WR-CALDESC:Evenementen voor Olof
REFRESH-INTERVAL;VALUE=DURATION:PT1H
X-Robots-Tag:noindex
X-PUBLISHED-TTL:PT1H
BEGIN:VTIMEZONE
TZID:UTC
BEGIN:STANDARD
TZOFFSETFROM:+0000
TZOFFSETTO:+0000
TZNAME:UTC
DTSTART:20190101T000000
END:STANDARD
END:VTIMEZONE
BEGIN:VEVENT
DTSTART;VALUE=DATE:20201026
DTEND;VALUE=DATE:20201027
DTSTAMP:20260424T233752
CREATED:20200925T123512Z
LAST-MODIFIED:20220821T114754Z
UID:3442-1603670400-1603756799@olof.nl
SUMMARY:Tilburg Career Days: Preparation Day
DESCRIPTION:
URL:https://olof.nl/event/tilburg-career-days-preparation-day/2020-10-26/
LOCATION:Willem II Stadion\, Goirlese Weg 34\, Tilburg\, 5026PC\, Nederland
END:VEVENT
BEGIN:VEVENT
DTSTART;TZID=UTC:20201026T160000
DTEND;TZID=UTC:20201026T220000
DTSTAMP:20260424T233752
CREATED:20200925T115506Z
LAST-MODIFIED:20201013T075549Z
UID:3426-1603728000-1603749600@olof.nl
SUMMARY:Inauguratie periode 2
DESCRIPTION:
URL:https://olof.nl/event/inauguratieperiode-kmt-2/
LOCATION:Sociëteit Asgard\, Spoorlaan\, Tilburg\, Noord-Brabant\, 5038CC\, Nederland
END:VEVENT
END:VCALENDAR