BEGIN:VCALENDAR
VERSION:2.0
PRODID:-//Olof - ECPv6.15.20//NONSGML v1.0//EN
CALSCALE:GREGORIAN
METHOD:PUBLISH
X-WR-CALNAME:Olof
X-ORIGINAL-URL:https://olof.nl
X-WR-CALDESC:Evenementen voor Olof
REFRESH-INTERVAL;VALUE=DURATION:PT1H
X-Robots-Tag:noindex
X-PUBLISHED-TTL:PT1H
BEGIN:VTIMEZONE
TZID:UTC
BEGIN:STANDARD
TZOFFSETFROM:+0000
TZOFFSETTO:+0000
TZNAME:UTC
DTSTART:20190101T000000
END:STANDARD
END:VTIMEZONE
BEGIN:VEVENT
DTSTART;VALUE=DATE:20201027
DTEND;VALUE=DATE:20201029
DTSTAMP:20260424T233645
CREATED:20200925T121218Z
LAST-MODIFIED:20200925T121218Z
UID:3429-1603756800-1603929599@olof.nl
SUMMARY:Kleptijd Inauguratie periode 2
DESCRIPTION:Kleprondes na inauguratieperiode 2. Gedurende deze twee avonden zullen de leden die lid zijn geworden gedurende inauguratieperiode 2 kennis maken met de disputen. \nOf dit online of fysiek zal plaatsvinden zal ter zijner tijd bepaald worden aan de hand van de RIVM maatregelen die dan gelden.
URL:https://olof.nl/event/kleptijd-inauguratie-periode-2/
LOCATION:Sociëteit Asgard\, Spoorlaan\, Tilburg\, Noord-Brabant\, 5038CC\, Nederland
END:VEVENT
BEGIN:VEVENT
DTSTART;TZID=UTC:20201027T183000
DTEND;TZID=UTC:20201027T220000
DTSTAMP:20260424T233645
CREATED:20201011T132357Z
LAST-MODIFIED:20201015T084310Z
UID:3501-1603823400-1603836000@olof.nl
SUMMARY:Jaarclub Avond (gecanceld)
DESCRIPTION:Ontmoet je jaargenoten onder begeleiding van de Besloten Activiteiten Commissie (BACo). Over meerdere weken verdeeld kunnen de eerstejaars elkaar ontmoeten in Bruincafé Asgard voorafgaande aan de vorming van hun jaarclub.
URL:https://olof.nl/event/jaarclub-avond-8/
LOCATION:Sociëteit Asgard\, Spoorlaan\, Tilburg\, Noord-Brabant\, 5038CC\, Nederland
END:VEVENT
END:VCALENDAR