BEGIN:VCALENDAR
VERSION:2.0
PRODID:-//Olof - ECPv6.15.20//NONSGML v1.0//EN
CALSCALE:GREGORIAN
METHOD:PUBLISH
X-WR-CALNAME:Olof
X-ORIGINAL-URL:https://olof.nl
X-WR-CALDESC:Evenementen voor Olof
REFRESH-INTERVAL;VALUE=DURATION:PT1H
X-Robots-Tag:noindex
X-PUBLISHED-TTL:PT1H
BEGIN:VTIMEZONE
TZID:UTC
BEGIN:STANDARD
TZOFFSETFROM:+0000
TZOFFSETTO:+0000
TZNAME:UTC
DTSTART:20190101T000000
END:STANDARD
END:VTIMEZONE
BEGIN:VEVENT
DTSTART;TZID=UTC:20201029T153000
DTEND;TZID=UTC:20201029T190000
DTSTAMP:20260424T233645
CREATED:20200925T122501Z
LAST-MODIFIED:20201029T132603Z
UID:3431-1603985400-1603998000@olof.nl
SUMMARY:De Tribune presents: Symposium on American presidential elections
DESCRIPTION:De Tribune zal dit jaar gaan over de Amerikaanse presidentsverkiezingen. Niemand minder dan Pete Hoekstra\, de ambassadeur van de Verenigde Staten in Nederland zal aanschuiven om zijn mening te geven over de komende verkiezingen. Hij en andere zullen hun perspectief bieden over verkiezingen in deze roerige tijd. \nHierbij de link waarmee je het evenement kan volgen: https://www.tilburguniversity.edu/nl/campus/live-uitzendingen/aula
URL:https://olof.nl/event/de-tribune-presents-symposium-on-american-presidential-elections/
LOCATION:Tilburg University\, Warandelaan 2\, Tilburg\, Noord-Brabant\, 5037AB\, Nederland
END:VEVENT
BEGIN:VEVENT
DTSTART;TZID=UTC:20201029T183000
DTEND;TZID=UTC:20201029T220000
DTSTAMP:20260424T233645
CREATED:20200925T122701Z
LAST-MODIFIED:20201015T084357Z
UID:3434-1603996200-1604008800@olof.nl
SUMMARY:Jaarclub Avond (gecanceld)
DESCRIPTION:Ontmoet je jaargenoten onder begeleiding van de Besloten Activiteiten Commissie (BACo). Over meerdere weken verdeeld kunnen de eerstejaars elkaar ontmoeten in Bruincafé Asgard voorafgaande aan de vorming van hun jaarclub.
URL:https://olof.nl/event/jaarclub-avond-2/
LOCATION:Sociëteit Asgard\, Spoorlaan\, Tilburg\, Noord-Brabant\, 5038CC\, Nederland
END:VEVENT
END:VCALENDAR