BEGIN:VCALENDAR
VERSION:2.0
PRODID:-//Olof - ECPv6.15.20//NONSGML v1.0//EN
CALSCALE:GREGORIAN
METHOD:PUBLISH
X-WR-CALNAME:Olof
X-ORIGINAL-URL:https://olof.nl
X-WR-CALDESC:Evenementen voor Olof
REFRESH-INTERVAL;VALUE=DURATION:PT1H
X-Robots-Tag:noindex
X-PUBLISHED-TTL:PT1H
BEGIN:VTIMEZONE
TZID:UTC
BEGIN:STANDARD
TZOFFSETFROM:+0000
TZOFFSETTO:+0000
TZNAME:UTC
DTSTART:20190101T000000
END:STANDARD
END:VTIMEZONE
BEGIN:VEVENT
DTSTART;VALUE=DATE:20201030
DTEND;VALUE=DATE:20201102
DTSTAMP:20260424T233645
CREATED:20200925T122942Z
LAST-MODIFIED:20200925T122942Z
UID:3436-1604016000-1604275199@olof.nl
SUMMARY:Dispensatiedagen Inauguratieperiode 2
DESCRIPTION:Disputen en vriendenclubs nodigen eerstejaars leden uit voor een compleet georganiseerde dag waarbij de eerstejaars hun keuze maken bij welk dispuut of vriendenclub ze willen aansluiten.
URL:https://olof.nl/event/dispensatiedagen-inauguratieperiode-2/
LOCATION:Dispuutshuizen
END:VEVENT
END:VCALENDAR