BEGIN:VCALENDAR
VERSION:2.0
PRODID:-//Olof - ECPv6.15.20//NONSGML v1.0//EN
CALSCALE:GREGORIAN
METHOD:PUBLISH
X-WR-CALNAME:Olof
X-ORIGINAL-URL:https://olof.nl
X-WR-CALDESC:Evenementen voor Olof
REFRESH-INTERVAL;VALUE=DURATION:PT1H
X-Robots-Tag:noindex
X-PUBLISHED-TTL:PT1H
BEGIN:VTIMEZONE
TZID:UTC
BEGIN:STANDARD
TZOFFSETFROM:+0000
TZOFFSETTO:+0000
TZNAME:UTC
DTSTART:20190101T000000
END:STANDARD
END:VTIMEZONE
BEGIN:VEVENT
DTSTART;TZID=UTC:20201126T200000
DTEND;TZID=UTC:20201126T230000
DTSTAMP:20260424T233644
CREATED:20201111T135425Z
LAST-MODIFIED:20201119T135203Z
UID:3565-1606420800-1606431600@olof.nl
SUMMARY:Online FIFA toernooi
DESCRIPTION:Geef je nu op en bewijs dat jij de ultieme FIFA koning bent! Het toernooi zal georganiseerd worden via Playstation. \n\n\n                \n                        \n                            Online FIFA toernooi\n                             \n                        \n                        Geef de namen en telefoonnummers op van de deelnemersGeef de namen en telefoonnummers op van de deelnemers
URL:https://olof.nl/event/online-fifa-toernooi/
LOCATION:Online
END:VEVENT
END:VCALENDAR