BEGIN:VCALENDAR
VERSION:2.0
PRODID:-//Olof - ECPv6.15.20//NONSGML v1.0//EN
CALSCALE:GREGORIAN
METHOD:PUBLISH
X-WR-CALNAME:Olof
X-ORIGINAL-URL:https://olof.nl
X-WR-CALDESC:Evenementen voor Olof
REFRESH-INTERVAL;VALUE=DURATION:PT1H
X-Robots-Tag:noindex
X-PUBLISHED-TTL:PT1H
BEGIN:VTIMEZONE
TZID:UTC
BEGIN:STANDARD
TZOFFSETFROM:+0000
TZOFFSETTO:+0000
TZNAME:UTC
DTSTART:20190101T000000
END:STANDARD
END:VTIMEZONE
BEGIN:VEVENT
DTSTART;VALUE=DATE:20201214
DTEND;VALUE=DATE:20201219
DTSTAMP:20260424T224250
CREATED:20200925T134046Z
LAST-MODIFIED:20201204T130710Z
UID:3473-1607904000-1608335999@olof.nl
SUMMARY:Reces
DESCRIPTION:Start van het reces. Succes met de tentamens! \nBijles nodig? Kijk op athenastudies.nl of het vak beschikbaar is en vraag je kortingscode aan via vp@olof.nl.
URL:https://olof.nl/event/3473/
LOCATION:Tilburg University\, Warandelaan 2\, Tilburg\, Noord-Brabant\, 5037AB\, Nederland
END:VEVENT
END:VCALENDAR