BEGIN:VCALENDAR
VERSION:2.0
PRODID:-//Olof - ECPv6.15.20//NONSGML v1.0//EN
CALSCALE:GREGORIAN
METHOD:PUBLISH
X-WR-CALNAME:Olof
X-ORIGINAL-URL:https://olof.nl
X-WR-CALDESC:Evenementen voor Olof
REFRESH-INTERVAL;VALUE=DURATION:PT1H
X-Robots-Tag:noindex
X-PUBLISHED-TTL:PT1H
BEGIN:VTIMEZONE
TZID:UTC
BEGIN:STANDARD
TZOFFSETFROM:+0000
TZOFFSETTO:+0000
TZNAME:UTC
DTSTART:20190101T000000
END:STANDARD
END:VTIMEZONE
BEGIN:VEVENT
DTSTART;VALUE=DATE:20201219
DTEND;VALUE=DATE:20201228
DTSTAMP:20260424T223512
CREATED:20200925T134521Z
LAST-MODIFIED:20200925T134521Z
UID:3476-1608336000-1609113599@olof.nl
SUMMARY:Kerstvakantie
DESCRIPTION:Bezoek je ouders\, eet wat kalkoen en denk aan de prachtige tijden die je afgelopen jaar op het corps hebt meegemaakt. Denk in deze verbroederende dagen aan je dispuutsgenoten\, jaarclubgenoten\, en jouw andere favoriete corpsleden en wees dankbaar voor de schitterende herinneringen die jullie samen hebben gevormd. \nVrolijk kerstfeest!
URL:https://olof.nl/event/kerstvakantie/
LOCATION:Sociëteit Asgard\, Spoorlaan\, Tilburg\, Noord-Brabant\, 5038CC\, Nederland
END:VEVENT
END:VCALENDAR