BEGIN:VCALENDAR
VERSION:2.0
PRODID:-//Olof - ECPv6.15.20//NONSGML v1.0//EN
CALSCALE:GREGORIAN
METHOD:PUBLISH
X-WR-CALNAME:Olof
X-ORIGINAL-URL:https://olof.nl
X-WR-CALDESC:Evenementen voor Olof
REFRESH-INTERVAL;VALUE=DURATION:PT1H
X-Robots-Tag:noindex
X-PUBLISHED-TTL:PT1H
BEGIN:VTIMEZONE
TZID:UTC
BEGIN:STANDARD
TZOFFSETFROM:+0000
TZOFFSETTO:+0000
TZNAME:UTC
DTSTART:20200101T000000
END:STANDARD
END:VTIMEZONE
BEGIN:VEVENT
DTSTART;TZID=UTC:20210204T140000
DTEND;TZID=UTC:20210204T180000
DTSTAMP:20260424T193117
CREATED:20210125T163608Z
LAST-MODIFIED:20210125T163628Z
UID:3700-1612447200-1612461600@olof.nl
SUMMARY:Bezoek de 'T Skiet Niet Op' - Kraam
DESCRIPTION:Tussen 14:00 en 18:00 zetten wij de ‘T Skiet Niet Op’ kraam neer voor het pand. Wandel langs voor een warme glühwein of choco voor een schappelijk prijsje. Het skiet niet op\, maar het leven is mooier met een glühweintje op.
URL:https://olof.nl/event/bezoek-de-t-skiet-niet-op-kraam-3/
LOCATION:Sociëteit Asgard\, Spoorlaan\, Tilburg\, Noord-Brabant\, 5038CC\, Nederland
END:VEVENT
BEGIN:VEVENT
DTSTART;TZID=UTC:20210204T200000
DTEND;TZID=UTC:20210204T233000
DTSTAMP:20260424T193117
CREATED:20210125T164356Z
LAST-MODIFIED:20210125T164356Z
UID:3702-1612468800-1612481400@olof.nl
SUMMARY:Eerstejaars Jaarclubavond Mannen
DESCRIPTION:Eerstejaars Jaarclubavond voor mannen. In het kader van de jaarclubvorming wordt er door de Besloten Activiteiten Commissie een online avond georganiseerd voor de mannen van het Glorijaar.
URL:https://olof.nl/event/eerstejaars-jaarclubavond-mannen/
LOCATION:Online
END:VEVENT
END:VCALENDAR