BEGIN:VCALENDAR
VERSION:2.0
PRODID:-//Olof - ECPv6.15.20//NONSGML v1.0//EN
CALSCALE:GREGORIAN
METHOD:PUBLISH
X-WR-CALNAME:Olof
X-ORIGINAL-URL:https://olof.nl
X-WR-CALDESC:Evenementen voor Olof
REFRESH-INTERVAL;VALUE=DURATION:PT1H
X-Robots-Tag:noindex
X-PUBLISHED-TTL:PT1H
BEGIN:VTIMEZONE
TZID:UTC
BEGIN:STANDARD
TZOFFSETFROM:+0000
TZOFFSETTO:+0000
TZNAME:UTC
DTSTART:20200101T000000
END:STANDARD
END:VTIMEZONE
BEGIN:VEVENT
DTSTART;TZID=UTC:20210208T200000
DTEND;TZID=UTC:20210208T233000
DTSTAMP:20260424T193108
CREATED:20210113T172508Z
LAST-MODIFIED:20210113T172508Z
UID:3631-1612814400-1612827000@olof.nl
SUMMARY:Online Commissie Avond
DESCRIPTION:Vergader online en leer je commissiegenoten beter kennen
URL:https://olof.nl/event/online-commissie-avond/
LOCATION:Online
END:VEVENT
END:VCALENDAR