BEGIN:VCALENDAR
VERSION:2.0
PRODID:-//Olof - ECPv6.15.20//NONSGML v1.0//EN
CALSCALE:GREGORIAN
METHOD:PUBLISH
X-WR-CALNAME:Olof
X-ORIGINAL-URL:https://olof.nl
X-WR-CALDESC:Evenementen voor Olof
REFRESH-INTERVAL;VALUE=DURATION:PT1H
X-Robots-Tag:noindex
X-PUBLISHED-TTL:PT1H
BEGIN:VTIMEZONE
TZID:UTC
BEGIN:STANDARD
TZOFFSETFROM:+0000
TZOFFSETTO:+0000
TZNAME:UTC
DTSTART:20200101T000000
END:STANDARD
END:VTIMEZONE
BEGIN:VEVENT
DTSTART;TZID=UTC:20210304T160000
DTEND;TZID=UTC:20210304T200000
DTSTAMP:20260424T174958
CREATED:20210113T173606Z
LAST-MODIFIED:20210125T161956Z
UID:3637-1614873600-1614888000@olof.nl
SUMMARY:De Tribune presenteert: Symposium Tweede Kamerverkiezingen
DESCRIPTION:Meer informatie volgt. \nVolg https://www.instagram.com/tilburgs_studentensymposium/ op instagram.
URL:https://olof.nl/event/de-tribune-presenteert-symposium-tweede-kamerverkiezingen/
LOCATION:Tilburg University\, Warandelaan 2\, Tilburg\, Noord-Brabant\, 5037AB\, Nederland
END:VEVENT
END:VCALENDAR