BEGIN:VCALENDAR
VERSION:2.0
PRODID:-//Olof - ECPv6.15.20//NONSGML v1.0//EN
CALSCALE:GREGORIAN
METHOD:PUBLISH
X-ORIGINAL-URL:https://olof.nl
X-WR-CALDESC:Evenementen voor Olof
REFRESH-INTERVAL;VALUE=DURATION:PT1H
X-Robots-Tag:noindex
X-PUBLISHED-TTL:PT1H
BEGIN:VTIMEZONE
TZID:UTC
BEGIN:STANDARD
TZOFFSETFROM:+0000
TZOFFSETTO:+0000
TZNAME:UTC
DTSTART:20200101T000000
END:STANDARD
END:VTIMEZONE
BEGIN:VEVENT
DTSTART;TZID=UTC:20210504T200000
DTEND;TZID=UTC:20210504T203000
DTSTAMP:20260423T234415
CREATED:20210504T095442Z
LAST-MODIFIED:20210504T095442Z
UID:4078-1620158400-1620160200@olof.nl
SUMMARY:Dodenherdenking
DESCRIPTION:Op deze dag herdenken we alle burgers en militairen die in het Koninkrijk der Nederlanden of waar ook ter wereld zijn omgekomen sinds het uitbreken van de Tweede Wereldoorlog\, in oorlogssituaties en bij vredesoperaties.
URL:https://olof.nl/event/dodenherdenking/
END:VEVENT
END:VCALENDAR