BEGIN:VCALENDAR
VERSION:2.0
PRODID:-//Olof - ECPv6.15.20//NONSGML v1.0//EN
CALSCALE:GREGORIAN
METHOD:PUBLISH
X-WR-CALNAME:Olof
X-ORIGINAL-URL:https://olof.nl
X-WR-CALDESC:Evenementen voor Olof
REFRESH-INTERVAL;VALUE=DURATION:PT1H
X-Robots-Tag:noindex
X-PUBLISHED-TTL:PT1H
BEGIN:VTIMEZONE
TZID:UTC
BEGIN:STANDARD
TZOFFSETFROM:+0000
TZOFFSETTO:+0000
TZNAME:UTC
DTSTART:20200101T000000
END:STANDARD
END:VTIMEZONE
BEGIN:VEVENT
DTSTART;TZID=UTC:20210526T200000
DTEND;TZID=UTC:20210526T233000
DTSTAMP:20260423T234409
CREATED:20210503T130653Z
LAST-MODIFIED:20210503T130653Z
UID:4071-1622059200-1622071800@olof.nl
SUMMARY:AHC Songfestival
DESCRIPTION:
URL:https://olof.nl/event/ahc-songfestival/
END:VEVENT
END:VCALENDAR