BEGIN:VCALENDAR
VERSION:2.0
PRODID:-//Olof - ECPv6.15.20//NONSGML v1.0//EN
CALSCALE:GREGORIAN
METHOD:PUBLISH
X-ORIGINAL-URL:https://olof.nl
X-WR-CALDESC:Evenementen voor Olof
REFRESH-INTERVAL;VALUE=DURATION:PT1H
X-Robots-Tag:noindex
X-PUBLISHED-TTL:PT1H
BEGIN:VTIMEZONE
TZID:UTC
BEGIN:STANDARD
TZOFFSETFROM:+0000
TZOFFSETTO:+0000
TZNAME:UTC
DTSTART:20200101T000000
END:STANDARD
END:VTIMEZONE
BEGIN:VEVENT
DTSTART;TZID=UTC:20210711T140000
DTEND;TZID=UTC:20210711T190000
DTSTAMP:20260423T211548
CREATED:20210128T130556Z
LAST-MODIFIED:20210128T130556Z
UID:3714-1626012000-1626030000@olof.nl
SUMMARY:94ste Diesviering: Heilige Mis + Frühschoppen
DESCRIPTION:Er was eens… \neen groep illustere corpslegendes in een kerk op 8 oktober 1927. Na de pontificale heilige mis\, opgedragen door de aartsbisschop van Utrecht Monseigneur van de Wetering\, kwamen zij samen voor een koud buffet met een drankje en smeden zij de vriendenband die aan de oorsprong zou staan van het Tilburgs Studenten Corps Sint Olof. De tijd vloog voorbij. Het corps overleefde de oorlog\, de hippietijd en een pandemie en nu is het tijd om het glas te heffen op 94 jaar Olof. De leden trappen deze viering af zoals het avontuur in 1927 begon met een Heilige Mis gevolgd door het Frühschoppen. Jullie zijn van harte welkom in de Heikese Kerk vanaf 13:30. De mis zal starten om 14:00.
URL:https://olof.nl/event/94ste-diesviering-heilige-mis-fruhschoppen/
LOCATION:De Heikese Kerk\, Stadhuisstraat 6\, Tilburg\, Noord-Brabant\, 5038VA\, Nederland
CATEGORIES:Bijeenkomsten
END:VEVENT
END:VCALENDAR