BEGIN:VCALENDAR
VERSION:2.0
PRODID:-//Olof - ECPv6.15.20//NONSGML v1.0//EN
CALSCALE:GREGORIAN
METHOD:PUBLISH
X-ORIGINAL-URL:https://olof.nl
X-WR-CALDESC:Evenementen voor Olof
REFRESH-INTERVAL;VALUE=DURATION:PT1H
X-Robots-Tag:noindex
X-PUBLISHED-TTL:PT1H
BEGIN:VTIMEZONE
TZID:UTC
BEGIN:STANDARD
TZOFFSETFROM:+0000
TZOFFSETTO:+0000
TZNAME:UTC
DTSTART:20200101T000000
END:STANDARD
END:VTIMEZONE
BEGIN:VEVENT
DTSTART;TZID=UTC:20210712T210000
DTEND;TZID=UTC:20210712T233000
DTSTAMP:20260423T211548
CREATED:20210128T135319Z
LAST-MODIFIED:20210128T135319Z
UID:3716-1626123600-1626132600@olof.nl
SUMMARY:94ste Diesviering: BCV
DESCRIPTION:Tijdens de Buitengewone Corps Vergadering zullen de Praeses Senatus en de Praeses van de Diescommissie hun redevoering houden en een licht werpen op het gepasseerde verenigingsjaar en het huidige studieklimaat. De disputen en jaarclubs kunnen recipiëren na afloop van de vergadering waarna wij samen klinken op een mooie toekomst.
URL:https://olof.nl/event/94ste-diesviering-bcv/
LOCATION:Sociëteit Asgard\, Spoorlaan\, Tilburg\, Noord-Brabant\, 5038CC\, Nederland
END:VEVENT
END:VCALENDAR