BEGIN:VCALENDAR
VERSION:2.0
PRODID:-//Olof - ECPv6.15.20//NONSGML v1.0//EN
CALSCALE:GREGORIAN
METHOD:PUBLISH
X-WR-CALNAME:Olof
X-ORIGINAL-URL:https://olof.nl
X-WR-CALDESC:Evenementen voor Olof
REFRESH-INTERVAL;VALUE=DURATION:PT1H
X-Robots-Tag:noindex
X-PUBLISHED-TTL:PT1H
BEGIN:VTIMEZONE
TZID:UTC
BEGIN:STANDARD
TZOFFSETFROM:+0000
TZOFFSETTO:+0000
TZNAME:UTC
DTSTART:20200101T000000
END:STANDARD
END:VTIMEZONE
BEGIN:VEVENT
DTSTART;TZID=UTC:20210713T200000
DTEND;TZID=UTC:20210713T233000
DTSTAMP:20260423T211431
CREATED:20210128T141934Z
LAST-MODIFIED:20210128T141934Z
UID:3718-1626206400-1626219000@olof.nl
SUMMARY:94ste Diesviering: Almanakuitreiking
DESCRIPTION:Het verenigingsjaar 2019-2020 is door de Commissie tot Redactie Tilburgse Studenten Almanak vastgelegd in een gloednieuw boekwerk.
URL:https://olof.nl/event/94ste-diesviering-almanakuitreiking/
LOCATION:Sociëteit Asgard\, Spoorlaan\, Tilburg\, Noord-Brabant\, 5038CC\, Nederland
END:VEVENT
END:VCALENDAR