BEGIN:VCALENDAR
VERSION:2.0
PRODID:-//Olof - ECPv6.15.20//NONSGML v1.0//EN
CALSCALE:GREGORIAN
METHOD:PUBLISH
X-ORIGINAL-URL:https://olof.nl
X-WR-CALDESC:Evenementen voor Olof
REFRESH-INTERVAL;VALUE=DURATION:PT1H
X-Robots-Tag:noindex
X-PUBLISHED-TTL:PT1H
BEGIN:VTIMEZONE
TZID:UTC
BEGIN:STANDARD
TZOFFSETFROM:+0000
TZOFFSETTO:+0000
TZNAME:UTC
DTSTART:20200101T000000
END:STANDARD
END:VTIMEZONE
BEGIN:VEVENT
DTSTART;TZID=UTC:20210716T200000
DTEND;TZID=UTC:20210716T233000
DTSTAMP:20260423T211549
CREATED:20210128T143923Z
LAST-MODIFIED:20210128T143952Z
UID:3724-1626465600-1626478200@olof.nl
SUMMARY:94ste Diesviering: Buitendag
DESCRIPTION:Tijdens de diesviering is het belangrijk om even de comfortzone te verlaten en het land in te trekken voor een cultureel tripje. Wat we gaan doen zal op de dag zelf kenbaar worden gemaakt.
URL:https://olof.nl/event/94ste-diesviering-buitendag/
LOCATION:Sociëteit Asgard\, Spoorlaan\, Tilburg\, Noord-Brabant\, 5038CC\, Nederland
END:VEVENT
END:VCALENDAR