BEGIN:VCALENDAR
VERSION:2.0
PRODID:-//Olof - ECPv6.15.20//NONSGML v1.0//EN
CALSCALE:GREGORIAN
METHOD:PUBLISH
X-ORIGINAL-URL:https://olof.nl
X-WR-CALDESC:Evenementen voor Olof
REFRESH-INTERVAL;VALUE=DURATION:PT1H
X-Robots-Tag:noindex
X-PUBLISHED-TTL:PT1H
BEGIN:VTIMEZONE
TZID:UTC
BEGIN:STANDARD
TZOFFSETFROM:+0000
TZOFFSETTO:+0000
TZNAME:UTC
DTSTART:20200101T000000
END:STANDARD
END:VTIMEZONE
BEGIN:VEVENT
DTSTART;TZID=UTC:20210818T150000
DTEND;TZID=UTC:20210818T230000
DTSTAMP:20260423T194736
CREATED:20210503T130415Z
LAST-MODIFIED:20210513T154125Z
UID:4065-1629298800-1629327600@olof.nl
SUMMARY:Bakboord Festival
DESCRIPTION:
URL:https://olof.nl/event/bakboord-festival/
END:VEVENT
END:VCALENDAR