BEGIN:VCALENDAR
VERSION:2.0
PRODID:-//Olof - ECPv6.15.20//NONSGML v1.0//EN
CALSCALE:GREGORIAN
METHOD:PUBLISH
X-WR-CALNAME:Olof
X-ORIGINAL-URL:https://olof.nl
X-WR-CALDESC:Evenementen voor Olof
REFRESH-INTERVAL;VALUE=DURATION:PT1H
X-Robots-Tag:noindex
X-PUBLISHED-TTL:PT1H
BEGIN:VTIMEZONE
TZID:UTC
BEGIN:STANDARD
TZOFFSETFROM:+0000
TZOFFSETTO:+0000
TZNAME:UTC
DTSTART:20200101T000000
END:STANDARD
END:VTIMEZONE
BEGIN:VEVENT
DTSTART;TZID=UTC:20210923T200000
DTEND;TZID=UTC:20210923T230000
DTSTAMP:20260423T182337
CREATED:20210906T131027Z
LAST-MODIFIED:20210906T131043Z
UID:4221-1632427200-1632438000@olof.nl
SUMMARY:Jaarclubvormingsavond
DESCRIPTION:
URL:https://olof.nl/event/jaarclubvormingsavond-2/
END:VEVENT
END:VCALENDAR