BEGIN:VCALENDAR
VERSION:2.0
PRODID:-//Olof - ECPv6.15.20//NONSGML v1.0//EN
CALSCALE:GREGORIAN
METHOD:PUBLISH
X-WR-CALNAME:Olof
X-ORIGINAL-URL:https://olof.nl
X-WR-CALDESC:Evenementen voor Olof
REFRESH-INTERVAL;VALUE=DURATION:PT1H
X-Robots-Tag:noindex
X-PUBLISHED-TTL:PT1H
BEGIN:VTIMEZONE
TZID:UTC
BEGIN:STANDARD
TZOFFSETFROM:+0000
TZOFFSETTO:+0000
TZNAME:UTC
DTSTART:20200101T000000
END:STANDARD
END:VTIMEZONE
BEGIN:VEVENT
DTSTART;TZID=UTC:20211015T150000
DTEND;TZID=UTC:20211015T160000
DTSTAMP:20260423T170626
CREATED:20211004T170014Z
LAST-MODIFIED:20211004T170014Z
UID:4287-1634310000-1634313600@olof.nl
SUMMARY:Pippenoverleg
DESCRIPTION:
URL:https://olof.nl/event/pippenoverleg/
LOCATION:Sociëteit Asgard\, Spoorlaan\, Tilburg\, Noord-Brabant\, 5038CC\, Nederland
CATEGORIES:Bijeenkomsten
END:VEVENT
END:VCALENDAR