BEGIN:VCALENDAR
VERSION:2.0
PRODID:-//Olof - ECPv6.15.20//NONSGML v1.0//EN
CALSCALE:GREGORIAN
METHOD:PUBLISH
X-ORIGINAL-URL:https://olof.nl
X-WR-CALDESC:Evenementen voor Olof
REFRESH-INTERVAL;VALUE=DURATION:PT1H
X-Robots-Tag:noindex
X-PUBLISHED-TTL:PT1H
BEGIN:VTIMEZONE
TZID:UTC
BEGIN:STANDARD
TZOFFSETFROM:+0000
TZOFFSETTO:+0000
TZNAME:UTC
DTSTART:20200101T000000
END:STANDARD
END:VTIMEZONE
BEGIN:VEVENT
DTSTART;TZID=UTC:20211109T080000
DTEND;TZID=UTC:20211109T170000
DTSTAMP:20260423T154426
CREATED:20210929T133842Z
LAST-MODIFIED:20210929T133842Z
UID:4271-1636444800-1636477200@olof.nl
SUMMARY:Tilburg Career Days (1/3)
DESCRIPTION:
URL:https://olof.nl/event/tilburg-career-days-1-3/
LOCATION:Tilburg University\, Warandelaan 2\, Tilburg\, Noord-Brabant\, 5037AB\, Nederland
END:VEVENT
BEGIN:VEVENT
DTSTART;TZID=UTC:20211109T200000
DTEND;TZID=UTC:20211109T233000
DTSTAMP:20260423T154426
CREATED:20210929T134012Z
LAST-MODIFIED:20210929T134012Z
UID:4277-1636488000-1636500600@olof.nl
SUMMARY:Commissieavond
DESCRIPTION:
URL:https://olof.nl/event/commissieavond-3/
LOCATION:Sociëteit Asgard\, Spoorlaan\, Tilburg\, Noord-Brabant\, 5038CC\, Nederland
END:VEVENT
END:VCALENDAR