BEGIN:VCALENDAR
VERSION:2.0
PRODID:-//Olof - ECPv6.15.20//NONSGML v1.0//EN
CALSCALE:GREGORIAN
METHOD:PUBLISH
X-ORIGINAL-URL:https://olof.nl
X-WR-CALDESC:Evenementen voor Olof
REFRESH-INTERVAL;VALUE=DURATION:PT1H
X-Robots-Tag:noindex
X-PUBLISHED-TTL:PT1H
BEGIN:VTIMEZONE
TZID:UTC
BEGIN:STANDARD
TZOFFSETFROM:+0000
TZOFFSETTO:+0000
TZNAME:UTC
DTSTART:20200101T000000
END:STANDARD
END:VTIMEZONE
BEGIN:VEVENT
DTSTART;TZID=UTC:20211118T160000
DTEND;TZID=UTC:20211118T200000
DTSTAMP:20260423T154427
CREATED:20211115T164047Z
LAST-MODIFIED:20211115T164114Z
UID:4318-1637251200-1637265600@olof.nl
SUMMARY:Adt-krat toernooi
DESCRIPTION:
URL:https://olof.nl/event/adt-krat-toernooi/
LOCATION:Sociëteit Asgard\, Spoorlaan\, Tilburg\, Noord-Brabant\, 5038CC\, Nederland
END:VEVENT
END:VCALENDAR