BEGIN:VCALENDAR
VERSION:2.0
PRODID:-//Olof - ECPv6.15.20//NONSGML v1.0//EN
CALSCALE:GREGORIAN
METHOD:PUBLISH
X-ORIGINAL-URL:https://olof.nl
X-WR-CALDESC:Evenementen voor Olof
REFRESH-INTERVAL;VALUE=DURATION:PT1H
X-Robots-Tag:noindex
X-PUBLISHED-TTL:PT1H
BEGIN:VTIMEZONE
TZID:UTC
BEGIN:STANDARD
TZOFFSETFROM:+0000
TZOFFSETTO:+0000
TZNAME:UTC
DTSTART:20200101T000000
END:STANDARD
END:VTIMEZONE
BEGIN:VEVENT
DTSTART;TZID=UTC:20211129T200000
DTEND;TZID=UTC:20211203T233000
DTSTAMP:20260423T141704
CREATED:20211004T173618Z
LAST-MODIFIED:20211004T173658Z
UID:4298-1638216000-1638574200@olof.nl
SUMMARY:Komkommertijd
DESCRIPTION:
URL:https://olof.nl/event/start-komkommertijd-2/
END:VEVENT
END:VCALENDAR