BEGIN:VCALENDAR
VERSION:2.0
PRODID:-//Olof - ECPv6.15.20//NONSGML v1.0//EN
CALSCALE:GREGORIAN
METHOD:PUBLISH
X-WR-CALNAME:Olof
X-ORIGINAL-URL:https://olof.nl
X-WR-CALDESC:Evenementen voor Olof
REFRESH-INTERVAL;VALUE=DURATION:PT1H
X-Robots-Tag:noindex
X-PUBLISHED-TTL:PT1H
BEGIN:VTIMEZONE
TZID:UTC
BEGIN:STANDARD
TZOFFSETFROM:+0000
TZOFFSETTO:+0000
TZNAME:UTC
DTSTART:20210101T000000
END:STANDARD
END:VTIMEZONE
BEGIN:VEVENT
DTSTART;TZID=UTC:20220112T200000
DTEND;TZID=UTC:20220112T230000
DTSTAMP:20260423T122900
CREATED:20211210T133003Z
LAST-MODIFIED:20211210T133036Z
UID:4347-1642017600-1642028400@olof.nl
SUMMARY:Nieuwjaarsborrel
DESCRIPTION:
URL:https://olof.nl/event/nieuwjaarsborrel/
END:VEVENT
END:VCALENDAR