BEGIN:VCALENDAR
VERSION:2.0
PRODID:-//Olof - ECPv6.15.20//NONSGML v1.0//EN
CALSCALE:GREGORIAN
METHOD:PUBLISH
X-ORIGINAL-URL:https://olof.nl
X-WR-CALDESC:Evenementen voor Olof
REFRESH-INTERVAL;VALUE=DURATION:PT1H
X-Robots-Tag:noindex
X-PUBLISHED-TTL:PT1H
BEGIN:VTIMEZONE
TZID:UTC
BEGIN:STANDARD
TZOFFSETFROM:+0000
TZOFFSETTO:+0000
TZNAME:UTC
DTSTART:20210101T000000
END:STANDARD
END:VTIMEZONE
BEGIN:VEVENT
DTSTART;TZID=UTC:20220113T190000
DTEND;TZID=UTC:20220113T230000
DTSTAMP:20260423T123629
CREATED:20211210T133146Z
LAST-MODIFIED:20211210T133146Z
UID:4349-1642100400-1642114800@olof.nl
SUMMARY:Olof Culinair
DESCRIPTION:
URL:https://olof.nl/event/olof-culinair-5/
END:VEVENT
END:VCALENDAR