BEGIN:VCALENDAR
VERSION:2.0
PRODID:-//Olof - ECPv6.15.20//NONSGML v1.0//EN
CALSCALE:GREGORIAN
METHOD:PUBLISH
X-WR-CALNAME:Olof
X-ORIGINAL-URL:https://olof.nl
X-WR-CALDESC:Evenementen voor Olof
REFRESH-INTERVAL;VALUE=DURATION:PT1H
X-Robots-Tag:noindex
X-PUBLISHED-TTL:PT1H
BEGIN:VTIMEZONE
TZID:UTC
BEGIN:STANDARD
TZOFFSETFROM:+0000
TZOFFSETTO:+0000
TZNAME:UTC
DTSTART:20210101T000000
END:STANDARD
END:VTIMEZONE
BEGIN:VEVENT
DTSTART;TZID=UTC:20220420T200000
DTEND;TZID=UTC:20220420T230000
DTSTAMP:20260423T082549
CREATED:20211210T140331Z
LAST-MODIFIED:20211210T140331Z
UID:4420-1650484800-1650495600@olof.nl
SUMMARY:AHC Songfestival
DESCRIPTION:
URL:https://olof.nl/event/ahc-songfestival-2/
END:VEVENT
END:VCALENDAR