BEGIN:VCALENDAR
VERSION:2.0
PRODID:-//Olof - ECPv6.15.20//NONSGML v1.0//EN
CALSCALE:GREGORIAN
METHOD:PUBLISH
X-WR-CALNAME:Olof
X-ORIGINAL-URL:https://olof.nl
X-WR-CALDESC:Evenementen voor Olof
REFRESH-INTERVAL;VALUE=DURATION:PT1H
X-Robots-Tag:noindex
X-PUBLISHED-TTL:PT1H
BEGIN:VTIMEZONE
TZID:UTC
BEGIN:STANDARD
TZOFFSETFROM:+0000
TZOFFSETTO:+0000
TZNAME:UTC
DTSTART:20220101T000000
END:STANDARD
END:VTIMEZONE
BEGIN:VEVENT
DTSTART;VALUE=DATE:20230313
DTEND;VALUE=DATE:20230319
DTSTAMP:20260422T160506
CREATED:20221018T131034Z
LAST-MODIFIED:20221018T131034Z
UID:4691-1678665600-1679183999@olof.nl
SUMMARY:Asgard Lustrum
DESCRIPTION:
URL:https://olof.nl/event/asgard-lustrum/
END:VEVENT
BEGIN:VEVENT
DTSTART;TZID=UTC:20230315T195300
DTEND;TZID=UTC:20230315T233000
DTSTAMP:20260422T160506
CREATED:20230118T143345Z
LAST-MODIFIED:20230118T143345Z
UID:4784-1678909980-1678923000@olof.nl
SUMMARY:Ledenactiviteit
DESCRIPTION:
URL:https://olof.nl/event/ledenactiviteit/
END:VEVENT
END:VCALENDAR