BEGIN:VCALENDAR
VERSION:2.0
PRODID:-//Olof - ECPv6.15.20//NONSGML v1.0//EN
CALSCALE:GREGORIAN
METHOD:PUBLISH
X-WR-CALNAME:Olof
X-ORIGINAL-URL:https://olof.nl
X-WR-CALDESC:Evenementen voor Olof
REFRESH-INTERVAL;VALUE=DURATION:PT1H
X-Robots-Tag:noindex
X-PUBLISHED-TTL:PT1H
BEGIN:VTIMEZONE
TZID:UTC
BEGIN:STANDARD
TZOFFSETFROM:+0000
TZOFFSETTO:+0000
TZNAME:UTC
DTSTART:20220101T000000
END:STANDARD
END:VTIMEZONE
BEGIN:VEVENT
DTSTART;TZID=UTC:20230518T140000
DTEND;TZID=UTC:20230518T183000
DTSTAMP:20260422T130014
CREATED:20230306T200543Z
LAST-MODIFIED:20230306T200543Z
UID:4873-1684418400-1684434600@olof.nl
SUMMARY:IOC Activiteit
DESCRIPTION:
URL:https://olof.nl/event/ioc-activiteit-3/
END:VEVENT
END:VCALENDAR