BEGIN:VCALENDAR
VERSION:2.0
PRODID:-//Olof - ECPv6.15.20//NONSGML v1.0//EN
CALSCALE:GREGORIAN
METHOD:PUBLISH
X-WR-CALNAME:Olof
X-ORIGINAL-URL:https://olof.nl
X-WR-CALDESC:Evenementen voor Olof
REFRESH-INTERVAL;VALUE=DURATION:PT1H
X-Robots-Tag:noindex
X-PUBLISHED-TTL:PT1H
BEGIN:VTIMEZONE
TZID:UTC
BEGIN:STANDARD
TZOFFSETFROM:+0000
TZOFFSETTO:+0000
TZNAME:UTC
DTSTART:20220101T000000
END:STANDARD
END:VTIMEZONE
BEGIN:VEVENT
DTSTART;VALUE=DATE:20230929
DTEND;VALUE=DATE:20231011
DTSTAMP:20260420T053534
CREATED:20230805T162517Z
LAST-MODIFIED:20230805T162517Z
UID:5040-1695945600-1696982399@olof.nl
SUMMARY:Dispensatiedagen
DESCRIPTION:Disputen en vriendenclubs nodigen eerstejaars leden uit voor een compleet georganiseerde dag waarbij de eerstejaars hun keuze maken bij welk dispuut of vriendenclub ze willen aansluiten.
URL:https://olof.nl/event/dispensatiedagen-2/
END:VEVENT
END:VCALENDAR