BEGIN:VCALENDAR
VERSION:2.0
PRODID:-//Olof - ECPv6.15.20//NONSGML v1.0//EN
CALSCALE:GREGORIAN
METHOD:PUBLISH
X-WR-CALNAME:Olof
X-ORIGINAL-URL:https://olof.nl
X-WR-CALDESC:Evenementen voor Olof
REFRESH-INTERVAL;VALUE=DURATION:PT1H
X-Robots-Tag:noindex
X-PUBLISHED-TTL:PT1H
BEGIN:VTIMEZONE
TZID:UTC
BEGIN:STANDARD
TZOFFSETFROM:+0000
TZOFFSETTO:+0000
TZNAME:UTC
DTSTART:20230101T000000
END:STANDARD
END:VTIMEZONE
BEGIN:VEVENT
DTSTART;TZID=UTC:20240206T200000
DTEND;TZID=UTC:20240206T233000
DTSTAMP:20260419T232435
CREATED:20231102T120503Z
LAST-MODIFIED:20240103T125241Z
UID:5217-1707249600-1707262200@olof.nl
SUMMARY:Doekenborrel
DESCRIPTION:
URL:https://olof.nl/event/doekenborrel-2/
END:VEVENT
END:VCALENDAR