BEGIN:VCALENDAR
VERSION:2.0
PRODID:-//Olof - ECPv6.15.20//NONSGML v1.0//EN
CALSCALE:GREGORIAN
METHOD:PUBLISH
X-ORIGINAL-URL:https://olof.nl
X-WR-CALDESC:Evenementen voor Olof
REFRESH-INTERVAL;VALUE=DURATION:PT1H
X-Robots-Tag:noindex
X-PUBLISHED-TTL:PT1H
BEGIN:VTIMEZONE
TZID:UTC
BEGIN:STANDARD
TZOFFSETFROM:+0000
TZOFFSETTO:+0000
TZNAME:UTC
DTSTART:20230101T000000
END:STANDARD
END:VTIMEZONE
BEGIN:VEVENT
DTSTART;TZID=UTC:20240418T210000
DTEND;TZID=UTC:20240418T233000
DTSTAMP:20260419T202753
CREATED:20240222T090101Z
LAST-MODIFIED:20240222T090101Z
UID:5477-1713474000-1713483000@olof.nl
SUMMARY:Hebe Lustrumreceptie
DESCRIPTION:
URL:https://olof.nl/event/hebe-lustrumreceptie/
END:VEVENT
END:VCALENDAR