BEGIN:VCALENDAR
VERSION:2.0
PRODID:-//Olof - ECPv6.15.20//NONSGML v1.0//EN
CALSCALE:GREGORIAN
METHOD:PUBLISH
X-ORIGINAL-URL:https://olof.nl
X-WR-CALDESC:Evenementen voor Olof
REFRESH-INTERVAL;VALUE=DURATION:PT1H
X-Robots-Tag:noindex
X-PUBLISHED-TTL:PT1H
BEGIN:VTIMEZONE
TZID:UTC
BEGIN:STANDARD
TZOFFSETFROM:+0000
TZOFFSETTO:+0000
TZNAME:UTC
DTSTART:20230101T000000
END:STANDARD
END:VTIMEZONE
BEGIN:VEVENT
DTSTART;TZID=UTC:20240615T150000
DTEND;TZID=UTC:20240615T230000
DTSTAMP:20260419T175058
CREATED:20240222T092413Z
LAST-MODIFIED:20240222T092413Z
UID:5517-1718463600-1718492400@olof.nl
SUMMARY:AHC Festivaldag
DESCRIPTION:
URL:https://olof.nl/event/ahc-festivaldag/
END:VEVENT
END:VCALENDAR