BEGIN:VCALENDAR
VERSION:2.0
PRODID:-//Olof - ECPv6.15.20//NONSGML v1.0//EN
CALSCALE:GREGORIAN
METHOD:PUBLISH
X-WR-CALNAME:Olof
X-ORIGINAL-URL:https://olof.nl
X-WR-CALDESC:Evenementen voor Olof
REFRESH-INTERVAL;VALUE=DURATION:PT1H
X-Robots-Tag:noindex
X-PUBLISHED-TTL:PT1H
BEGIN:VTIMEZONE
TZID:UTC
BEGIN:STANDARD
TZOFFSETFROM:+0000
TZOFFSETTO:+0000
TZNAME:UTC
DTSTART:20230101T000000
END:STANDARD
END:VTIMEZONE
BEGIN:VEVENT
DTSTART;TZID=UTC:20241121T080000
DTEND;TZID=UTC:20241121T170000
DTSTAMP:20260421T173134
CREATED:20240918T141635Z
LAST-MODIFIED:20240918T141635Z
UID:5874-1732176000-1732208400@olof.nl
SUMMARY:TCD
DESCRIPTION:
URL:https://olof.nl/event/tcd-4/
END:VEVENT
BEGIN:VEVENT
DTSTART;TZID=UTC:20241121T220000
DTEND;TZID=UTC:20241121T220000
DTSTAMP:20260421T173134
CREATED:20240918T141800Z
LAST-MODIFIED:20240918T141800Z
UID:5876-1732226400-1732226400@olof.nl
SUMMARY:Open Feest
DESCRIPTION:
URL:https://olof.nl/event/open-feest-18/
END:VEVENT
END:VCALENDAR