BEGIN:VCALENDAR
VERSION:2.0
PRODID:-//Olof - ECPv6.15.20//NONSGML v1.0//EN
CALSCALE:GREGORIAN
METHOD:PUBLISH
X-WR-CALNAME:Olof
X-ORIGINAL-URL:https://olof.nl
X-WR-CALDESC:Evenementen voor Olof
REFRESH-INTERVAL;VALUE=DURATION:PT1H
X-Robots-Tag:noindex
X-PUBLISHED-TTL:PT1H
BEGIN:VTIMEZONE
TZID:UTC
BEGIN:STANDARD
TZOFFSETFROM:+0000
TZOFFSETTO:+0000
TZNAME:UTC
DTSTART:20240101T000000
END:STANDARD
END:VTIMEZONE
BEGIN:VEVENT
DTSTART;TZID=UTC:20250417T200000
DTEND;TZID=UTC:20250417T200000
DTSTAMP:20260421T101309
CREATED:20240919T113103Z
LAST-MODIFIED:20240919T113103Z
UID:5957-1744920000-1744920000@olof.nl
SUMMARY:98e Dies Natalis: Gala
DESCRIPTION:
URL:https://olof.nl/event/98e-dies-natalis-gala/
END:VEVENT
END:VCALENDAR