BEGIN:VCALENDAR
VERSION:2.0
PRODID:-//Olof - ECPv6.15.20//NONSGML v1.0//EN
CALSCALE:GREGORIAN
METHOD:PUBLISH
X-WR-CALNAME:Olof
X-ORIGINAL-URL:https://olof.nl
X-WR-CALDESC:Evenementen voor Olof
REFRESH-INTERVAL;VALUE=DURATION:PT1H
X-Robots-Tag:noindex
X-PUBLISHED-TTL:PT1H
BEGIN:VTIMEZONE
TZID:UTC
BEGIN:STANDARD
TZOFFSETFROM:+0000
TZOFFSETTO:+0000
TZNAME:UTC
DTSTART:20190101T000000
END:STANDARD
END:VTIMEZONE
BEGIN:VEVENT
DTSTART;VALUE=DATE:20201030
DTEND;VALUE=DATE:20201102
DTSTAMP:20260424T223028
CREATED:20200925T122942Z
LAST-MODIFIED:20200925T122942Z
UID:3436-1604016000-1604275199@olof.nl
SUMMARY:Dispensatiedagen Inauguratieperiode 2
DESCRIPTION:Disputen en vriendenclubs nodigen eerstejaars leden uit voor een compleet georganiseerde dag waarbij de eerstejaars hun keuze maken bij welk dispuut of vriendenclub ze willen aansluiten.
URL:https://olof.nl/event/dispensatiedagen-inauguratieperiode-2/
LOCATION:Dispuutshuizen
END:VEVENT
BEGIN:VEVENT
DTSTART;TZID=UTC:20201102T183000
DTEND;TZID=UTC:20201102T220000
DTSTAMP:20260424T223028
CREATED:20200925T125326Z
LAST-MODIFIED:20201011T133005Z
UID:3444-1604341800-1604354400@olof.nl
SUMMARY:HupCie vergadering
DESCRIPTION:Per week kan er een eerstejaarscommissie vergaderen op 1.5 meter in de sociëteitszaal. Deze week is de HupCie aan de beurt.
URL:https://olof.nl/event/hupcie-vergadering/
LOCATION:Sociëteit Asgard\, Spoorlaan\, Tilburg\, Noord-Brabant\, 5038CC\, Nederland
END:VEVENT
BEGIN:VEVENT
DTSTART;VALUE=DATE:20201103
DTEND;VALUE=DATE:20201107
DTSTAMP:20260424T223028
CREATED:20200925T123325Z
LAST-MODIFIED:20200925T123336Z
UID:3438-1604361600-1604707199@olof.nl
SUMMARY:Tilburg Career Days
DESCRIPTION:Tilburg Career Days is an annual campus recruitment event of Tilburg University which offers students and companies the possibility to get to know one another. The 2020 edition will take place on the following dates: \n\nOctober 26th – Preperation day @Willem II Stadium\nNovember 3rd\, 4th and 5th – Physical career event @Willem II Stadium\nNovember 6th – Online company day\n\n  \nSign up
URL:https://olof.nl/event/tilburg-career-days/
LOCATION:Willem II Stadion\, Goirlese Weg 34\, Tilburg\, 5026PC\, Nederland
END:VEVENT
BEGIN:VEVENT
DTSTART;TZID=UTC:20201112T170000
DTEND;TZID=UTC:20201112T230000
DTSTAMP:20260424T223028
CREATED:20201111T103218Z
LAST-MODIFIED:20201111T103218Z
UID:3553-1605200400-1605222000@olof.nl
SUMMARY:Olof Culinair @ Home
DESCRIPTION:Mis jij de culinaire hoogstandjes tijdens Olof culinair ook zo? Wees gerust\, wij helpen je uit de brand. De gastromen hebben een heerlijk drie gangen diner voor je voorbereid om jou een hart onder de riem te steken gedurende deze roerige herfstdagen.
URL:https://olof.nl/event/olof-culinair-home/
END:VEVENT
BEGIN:VEVENT
DTSTART;TZID=UTC:20201120T200000
DTEND;TZID=UTC:20201120T230000
DTSTAMP:20260424T223028
CREATED:20201111T105036Z
LAST-MODIFIED:20201111T105150Z
UID:3555-1605902400-1605913200@olof.nl
SUMMARY:Online Pokertoernooi
DESCRIPTION:Is jouw pokerface ondoordringbaar en zijn jouw tactieken van het hoogste niveau? Test je vaardigheden tegen andere leden en misschien loop jij wel weg met de prijzenpot. \nGeef de namen en telefoonnummers van de deelnemers op dan voegen wij jou toe aan een groepsapp waar in de werking van het toernooi wordt uitgewerkt. \n\n\n                \n                        \n                            Online Pokertoernooi\n                             \n                        \n                        Gegevens online pokertoernooiGeef de namen van de deelnemers op en de telefoonnummers.
URL:https://olof.nl/event/online-pokertoernooi/
LOCATION:Online
END:VEVENT
BEGIN:VEVENT
DTSTART;TZID=UTC:20201126T200000
DTEND;TZID=UTC:20201126T230000
DTSTAMP:20260424T223028
CREATED:20201111T135425Z
LAST-MODIFIED:20201119T135203Z
UID:3565-1606420800-1606431600@olof.nl
SUMMARY:Online FIFA toernooi
DESCRIPTION:Geef je nu op en bewijs dat jij de ultieme FIFA koning bent! Het toernooi zal georganiseerd worden via Playstation. \n\n                \n                        \n                            Online FIFA toernooi\n                             \n                        \n                        Geef de namen en telefoonnummers op van de deelnemersGeef de namen en telefoonnummers op van de deelnemers
URL:https://olof.nl/event/online-fifa-toernooi/
LOCATION:Online
END:VEVENT
BEGIN:VEVENT
DTSTART;TZID=UTC:20201127T080000
DTEND;TZID=UTC:20201130T170000
DTSTAMP:20260424T223028
CREATED:20201111T110601Z
LAST-MODIFIED:20201111T110601Z
UID:3559-1606464000-1606755600@olof.nl
SUMMARY:KC Studentenwerk: Black Friday Weekend
DESCRIPTION:
URL:https://olof.nl/event/kc-studentenwerk-black-friday-weekend/
END:VEVENT
END:VCALENDAR