BEGIN:VCALENDAR
VERSION:2.0
PRODID:-//Olof - ECPv6.15.20//NONSGML v1.0//EN
CALSCALE:GREGORIAN
METHOD:PUBLISH
X-ORIGINAL-URL:https://olof.nl
X-WR-CALDESC:Evenementen voor Olof
REFRESH-INTERVAL;VALUE=DURATION:PT1H
X-Robots-Tag:noindex
X-PUBLISHED-TTL:PT1H
BEGIN:VTIMEZONE
TZID:UTC
BEGIN:STANDARD
TZOFFSETFROM:+0000
TZOFFSETTO:+0000
TZNAME:UTC
DTSTART:20190101T000000
END:STANDARD
END:VTIMEZONE
BEGIN:VEVENT
DTSTART;VALUE=DATE:20201228
DTEND;VALUE=DATE:20210111
DTSTAMP:20260424T193155
CREATED:20200925T134722Z
LAST-MODIFIED:20200925T134722Z
UID:3478-1609113600-1610323199@olof.nl
SUMMARY:Reces
DESCRIPTION:Niet gelukt in de reguliere tentamens? Tik tijdens de resits nog de nodige ECTS binnen! \nBijles nodig? Kijk op athenastudies.nl of het vak beschikbaar is en vraag je kortingscode aan via vp@olof.nl.
URL:https://olof.nl/event/reces/
LOCATION:Tilburg University\, Warandelaan 2\, Tilburg\, Noord-Brabant\, 5037AB\, Nederland
END:VEVENT
BEGIN:VEVENT
DTSTART;TZID=UTC:20210114T180000
DTEND;TZID=UTC:20210114T233000
DTSTAMP:20260424T193155
CREATED:20200925T135117Z
LAST-MODIFIED:20210108T144018Z
UID:3480-1610647200-1610667000@olof.nl
SUMMARY:Nieuwjaarsdiner @ Home
DESCRIPTION:Een heerlijk diner om de komst van het nieuwe jaar te vieren. 2020 was een jaar met ups en downs\, maar vergeet niet: ”Wat is het mooi om lid te zijn!” \n2021 belooft echter jouw jaar te worden. De terugkeer van de dikste feesten\, borrels\, diners\, gala’s en vele andere festiviteiten liggen in het verschiet. \nINSCHRIJVINGEN GESLOTEN
URL:https://olof.nl/event/nieuwjaarsdiner/
LOCATION:Sociëteit Asgard\, Spoorlaan\, Tilburg\, Noord-Brabant\, 5038CC\, Nederland
END:VEVENT
BEGIN:VEVENT
DTSTART;TZID=UTC:20210126T140000
DTEND;TZID=UTC:20210126T180000
DTSTAMP:20260424T193155
CREATED:20210125T162544Z
LAST-MODIFIED:20210125T162544Z
UID:3696-1611669600-1611684000@olof.nl
SUMMARY:Bezoek de 'T Skiet Niet Op' - Kraam
DESCRIPTION:Tussen 14:00 en 18:00 zetten wij de ‘T Skiet Niet Op’ kraam neer voor het pand. Wandel langs voor een warme glühwein of choco voor een schappelijk prijsje. Het skiet niet op\, maar het leven is mooier met een glühweintje op.
URL:https://olof.nl/event/bezoek-de-t-skiet-niet-op-kraam/
LOCATION:Sociëteit Asgard\, Spoorlaan\, Tilburg\, Noord-Brabant\, 5038CC\, Nederland
END:VEVENT
BEGIN:VEVENT
DTSTART;TZID=UTC:20210129T200000
DTEND;TZID=UTC:20210129T233000
DTSTAMP:20260424T193155
CREATED:20210113T171612Z
LAST-MODIFIED:20210125T090128Z
UID:3627-1611950400-1611963000@olof.nl
SUMMARY:Online Pokertoernooi
DESCRIPTION:Schrijf je nu in voor het online pokertoernooi! Geld moet rollen anders was het wel vierkant geweest. Eis de troon op en bluf de rest eruit alsof je Zoutelande aan het zingen bent. \n  \n\n\n                \n                        \n                            Online Pokertoernooi\n                             \n                        \n                        Gegevens online pokertoernooiGeef de namen van de deelnemers op en de telefoonnummers.
URL:https://olof.nl/event/online-pokertoernooi-2/
LOCATION:Online
END:VEVENT
END:VCALENDAR